BEGIN:VCALENDAR
VERSION:2.0
PRODID:-//Mississippi River Distilling Company - ECPv6.15.20//NONSGML v1.0//EN
CALSCALE:GREGORIAN
METHOD:PUBLISH
X-ORIGINAL-URL:https://www.mrdistilling.com
X-WR-CALDESC:Events for Mississippi River Distilling Company
REFRESH-INTERVAL;VALUE=DURATION:PT1H
X-Robots-Tag:noindex
X-PUBLISHED-TTL:PT1H
BEGIN:VTIMEZONE
TZID:America/Chicago
BEGIN:DAYLIGHT
TZOFFSETFROM:-0600
TZOFFSETTO:-0500
TZNAME:CDT
DTSTART:20220313T080000
END:DAYLIGHT
BEGIN:STANDARD
TZOFFSETFROM:-0500
TZOFFSETTO:-0600
TZNAME:CST
DTSTART:20221106T070000
END:STANDARD
BEGIN:DAYLIGHT
TZOFFSETFROM:-0600
TZOFFSETTO:-0500
TZNAME:CDT
DTSTART:20230312T080000
END:DAYLIGHT
BEGIN:STANDARD
TZOFFSETFROM:-0500
TZOFFSETTO:-0600
TZNAME:CST
DTSTART:20231105T070000
END:STANDARD
BEGIN:DAYLIGHT
TZOFFSETFROM:-0600
TZOFFSETTO:-0500
TZNAME:CDT
DTSTART:20240310T080000
END:DAYLIGHT
BEGIN:STANDARD
TZOFFSETFROM:-0500
TZOFFSETTO:-0600
TZNAME:CST
DTSTART:20241103T070000
END:STANDARD
BEGIN:DAYLIGHT
TZOFFSETFROM:-0600
TZOFFSETTO:-0500
TZNAME:CDT
DTSTART:20250309T080000
END:DAYLIGHT
BEGIN:STANDARD
TZOFFSETFROM:-0500
TZOFFSETTO:-0600
TZNAME:CST
DTSTART:20251102T070000
END:STANDARD
END:VTIMEZONE
BEGIN:VEVENT
DTSTART;TZID=America/Chicago:20231231T200000
DTEND;TZID=America/Chicago:20240101T003000
DTSTAMP:20260421T033626
CREATED:20231212T155827Z
LAST-MODIFIED:20231229T210247Z
UID:10000524-1704052800-1704069000@www.mrdistilling.com
SUMMARY:NYE at DTL
DESCRIPTION:The Downtown Lounge is the place to be for elegant and delicious cocktails this NYE! \nJoin us as we count down to midnight and watch the ball drop on the big screen. \nWe’ll ring in the new year with an epic balloon drop and free prosecco toast with the purchase of any cocktail. \nCome dressed to impress and have a blast downtown!  8 pm to 1 am
URL:https://www.mrdistilling.com/event/nye-at-dtl/
LOCATION:Downtown Lounge\, 318 East 2nd Street\, Davenport\, IA\, 52801\, United States
ATTACH;FMTTYPE=image/jpeg:https://www.mrdistilling.com/wp-content/uploads/2023/12/NYE-Facebook-Banner-e1702396700245.jpg
END:VEVENT
BEGIN:VEVENT
DTSTART;TZID=America/Chicago:20240127T140000
DTEND;TZID=America/Chicago:20240127T170000
DTSTAMP:20260421T033626
CREATED:20231212T154240Z
LAST-MODIFIED:20231229T210752Z
UID:10000522-1706364000-1706374800@www.mrdistilling.com
SUMMARY:Antifreeze Outdoor Cocktail Party
DESCRIPTION:Get ready to shake off the winter chill at our Antifreeze Outdoor Cocktail Party – Saturday\, January 27th! \nExciting news: This year\, we’re teaming up with Green Tree Brewery to add an extra dash of fun to the festivities. Join us for an unforgettable evening of outdoor cocktails\, great company\, and the perfect antidote to winter blues. Cheers to a party you won’t want to miss! \nClick here for tickets. 
URL:https://www.mrdistilling.com/event/antifreeze-outdoor-cocktail-party-2/
LOCATION:Cocktail House & Distillery\, 303 North Cody Road\, LeClaire\, IA\, 52753\, United States
ATTACH;FMTTYPE=image/jpeg:https://www.mrdistilling.com/wp-content/uploads/2023/12/antifreeze.jpg
END:VEVENT
END:VCALENDAR