BEGIN:VCALENDAR
VERSION:2.0
PRODID:-//Mississippi River Distilling Company - ECPv6.15.20//NONSGML v1.0//EN
CALSCALE:GREGORIAN
METHOD:PUBLISH
X-WR-CALNAME:Mississippi River Distilling Company
X-ORIGINAL-URL:https://www.mrdistilling.com
X-WR-CALDESC:Events for Mississippi River Distilling Company
REFRESH-INTERVAL;VALUE=DURATION:PT1H
X-Robots-Tag:noindex
X-PUBLISHED-TTL:PT1H
BEGIN:VTIMEZONE
TZID:America/Chicago
BEGIN:DAYLIGHT
TZOFFSETFROM:-0600
TZOFFSETTO:-0500
TZNAME:CDT
DTSTART:20240310T080000
END:DAYLIGHT
BEGIN:STANDARD
TZOFFSETFROM:-0500
TZOFFSETTO:-0600
TZNAME:CST
DTSTART:20241103T070000
END:STANDARD
BEGIN:DAYLIGHT
TZOFFSETFROM:-0600
TZOFFSETTO:-0500
TZNAME:CDT
DTSTART:20250309T080000
END:DAYLIGHT
BEGIN:STANDARD
TZOFFSETFROM:-0500
TZOFFSETTO:-0600
TZNAME:CST
DTSTART:20251102T070000
END:STANDARD
BEGIN:DAYLIGHT
TZOFFSETFROM:-0600
TZOFFSETTO:-0500
TZNAME:CDT
DTSTART:20260308T080000
END:DAYLIGHT
BEGIN:STANDARD
TZOFFSETFROM:-0500
TZOFFSETTO:-0600
TZNAME:CST
DTSTART:20261101T070000
END:STANDARD
END:VTIMEZONE
BEGIN:VEVENT
DTSTART;TZID=America/Chicago:20250903T120000
DTEND;TZID=America/Chicago:20250903T220000
DTSTAMP:20260420T062327
CREATED:20240918T171923Z
LAST-MODIFIED:20260105T200013Z
UID:10001387-1756900800-1756936800@www.mrdistilling.com
SUMMARY:Whiskey Wednesday
DESCRIPTION:Join us every Wednesday at both locations for our Whiskey Wednesday! \n Specials for Everyone: Save $2 on all whiskey cocktails!  Whiskey Club Members: Enjoy Buy One Get One Free whiskey cocktails! \nIf you’re not a Whiskey Club member yet\, now’s the time to join!  \nDon’t miss out—grab a friend and let’s make Wednesdays your favorite night of the week!
URL:https://www.mrdistilling.com/event/whiskey-wednesday/2025-09-03/
LOCATION:Cocktail House & Distillery\, 303 North Cody Road\, LeClaire\, IA\, 52753\, United States
ATTACH;FMTTYPE=image/jpeg:https://www.mrdistilling.com/wp-content/uploads/2024/06/Whiskey-Club-cte.jpg
END:VEVENT
BEGIN:VEVENT
DTSTART;TZID=America/Chicago:20250903T180000
DTEND;TZID=America/Chicago:20250903T200000
DTSTAMP:20260420T062327
CREATED:20250903T215422Z
LAST-MODIFIED:20250903T215422Z
UID:10002164-1756922400-1756929600@www.mrdistilling.com
SUMMARY:Adult Pumpkin Carving Night
DESCRIPTION:🎃 Adult Pumpkin Carving Night 🎃 \nGet ready for a spooktacular evening of creativity\, cocktails\, and friendly competition! \n🗓 When: Saturday\, October 18th | 6–8 PM📍 Where: 303 N Cody Road\, LeClaire \nBring your pumpkin and your carving tools—and carve your way to victory! The best pumpkin of the night wins an empty whiskey barrel! \n🍹 Enjoy themed drink specials while classic Halloween movies play in the background. \nThis is an adults-only event. Bring your A-game and your pumpkin—we’ll supply the fun!
URL:https://www.mrdistilling.com/event/adult-pumpkin-carving-night-2/
LOCATION:Cocktail House & Distillery\, 303 North Cody Road\, LeClaire\, IA\, 52753\, United States
ATTACH;FMTTYPE=image/jpeg:https://www.mrdistilling.com/wp-content/uploads/2025/09/Adult-Pumpkin-Carving-Night.jpg
ORGANIZER;CN="Mississippi River Distilling Company":MAILTO:events@mrdistilling.com
END:VEVENT
BEGIN:VEVENT
DTSTART;TZID=America/Chicago:20250903T183000
DTEND;TZID=America/Chicago:20250903T213000
DTSTAMP:20260420T062327
CREATED:20250903T204144Z
LAST-MODIFIED:20250903T204144Z
UID:10002163-1756924200-1756935000@www.mrdistilling.com
SUMMARY:Friday Night Live In LeClaire
DESCRIPTION: Friday night vibes are here! Join us this Friday\, October 3rd for Friday Night Live at Mississippi River Distilling Company in LeClaire!\n\n Featuring live music from Ryan Bizzari 6:30 – 9:30 PM Official Fall Menu Launch – come taste the season! The perfect way to kick off your weekend! Music in the Distillery!
URL:https://www.mrdistilling.com/event/friday-night-live-in-leclaire-2/
LOCATION:Cocktail House & Distillery\, 303 North Cody Road\, LeClaire\, IA\, 52753\, United States
ATTACH;FMTTYPE=image/jpeg:https://www.mrdistilling.com/wp-content/uploads/2025/09/Friday-Night-Live-Ryan-Bizzari.jpg
ORGANIZER;CN="Mississippi River Distilling Company":MAILTO:events@mrdistilling.com
END:VEVENT
END:VCALENDAR