BEGIN:VCALENDAR
VERSION:2.0
PRODID:-//Mississippi River Distilling Company - ECPv6.15.20//NONSGML v1.0//EN
CALSCALE:GREGORIAN
METHOD:PUBLISH
X-ORIGINAL-URL:https://www.mrdistilling.com
X-WR-CALDESC:Events for Mississippi River Distilling Company
REFRESH-INTERVAL;VALUE=DURATION:PT1H
X-Robots-Tag:noindex
X-PUBLISHED-TTL:PT1H
BEGIN:VTIMEZONE
TZID:America/Chicago
BEGIN:DAYLIGHT
TZOFFSETFROM:-0600
TZOFFSETTO:-0500
TZNAME:CDT
DTSTART:20240310T080000
END:DAYLIGHT
BEGIN:STANDARD
TZOFFSETFROM:-0500
TZOFFSETTO:-0600
TZNAME:CST
DTSTART:20241103T070000
END:STANDARD
BEGIN:DAYLIGHT
TZOFFSETFROM:-0600
TZOFFSETTO:-0500
TZNAME:CDT
DTSTART:20250309T080000
END:DAYLIGHT
BEGIN:STANDARD
TZOFFSETFROM:-0500
TZOFFSETTO:-0600
TZNAME:CST
DTSTART:20251102T070000
END:STANDARD
BEGIN:DAYLIGHT
TZOFFSETFROM:-0600
TZOFFSETTO:-0500
TZNAME:CDT
DTSTART:20260308T080000
END:DAYLIGHT
BEGIN:STANDARD
TZOFFSETFROM:-0500
TZOFFSETTO:-0600
TZNAME:CST
DTSTART:20261101T070000
END:STANDARD
END:VTIMEZONE
BEGIN:VEVENT
DTSTART;TZID=America/Chicago:20250412T170000
DTEND;TZID=America/Chicago:20250412T200000
DTSTAMP:20260421T094042
CREATED:20250321T170501Z
LAST-MODIFIED:20250321T170501Z
UID:10001815-1744477200-1744488000@www.mrdistilling.com
SUMMARY:Still Side Exhibition Night: Amber Williams
DESCRIPTION:Experience the breathtaking collage work of Amber Williams at Still Side Exhibition Night! Inspired by the rugged beauty of the Colorado mountains\, Amber crafts intricate\, layered compositions that evoke a deep connection to nature. Her latest collection will be on display in our distillery\, giving guests the opportunity to meet the artist\, hear about her creative process\, and purchase one-of-a-kind pieces. Enjoy an evening of art\, conversation\, and craft cocktails in a unique setting. Free entry – come support local talent!
URL:https://www.mrdistilling.com/event/still-side-exhibition-night-amber-williams/
LOCATION:Cocktail House & Distillery\, 303 North Cody Road\, LeClaire\, IA\, 52753\, United States
ATTACH;FMTTYPE=image/jpeg:https://www.mrdistilling.com/wp-content/uploads/2025/03/Stillside-Social-Amber-Williams.jpg
ORGANIZER;CN="Mississippi River Distilling Company":MAILTO:events@mrdistilling.com
END:VEVENT
END:VCALENDAR