BEGIN:VCALENDAR
VERSION:2.0
PRODID:-//Mississippi River Distilling Company - ECPv6.15.20//NONSGML v1.0//EN
CALSCALE:GREGORIAN
METHOD:PUBLISH
X-WR-CALNAME:Mississippi River Distilling Company
X-ORIGINAL-URL:https://www.mrdistilling.com
X-WR-CALDESC:Events for Mississippi River Distilling Company
REFRESH-INTERVAL;VALUE=DURATION:PT1H
X-Robots-Tag:noindex
X-PUBLISHED-TTL:PT1H
BEGIN:VTIMEZONE
TZID:America/Chicago
BEGIN:DAYLIGHT
TZOFFSETFROM:-0600
TZOFFSETTO:-0500
TZNAME:CDT
DTSTART:20240310T080000
END:DAYLIGHT
BEGIN:STANDARD
TZOFFSETFROM:-0500
TZOFFSETTO:-0600
TZNAME:CST
DTSTART:20241103T070000
END:STANDARD
BEGIN:DAYLIGHT
TZOFFSETFROM:-0600
TZOFFSETTO:-0500
TZNAME:CDT
DTSTART:20250309T080000
END:DAYLIGHT
BEGIN:STANDARD
TZOFFSETFROM:-0500
TZOFFSETTO:-0600
TZNAME:CST
DTSTART:20251102T070000
END:STANDARD
BEGIN:DAYLIGHT
TZOFFSETFROM:-0600
TZOFFSETTO:-0500
TZNAME:CDT
DTSTART:20260308T080000
END:DAYLIGHT
BEGIN:STANDARD
TZOFFSETFROM:-0500
TZOFFSETTO:-0600
TZNAME:CST
DTSTART:20261101T070000
END:STANDARD
END:VTIMEZONE
BEGIN:VEVENT
DTSTART;TZID=America/Chicago:20250304T180000
DTEND;TZID=America/Chicago:20250304T200000
DTSTAMP:20260423T073515
CREATED:20250219T203039Z
LAST-MODIFIED:20250219T203039Z
UID:10001747-1741111200-1741118400@www.mrdistilling.com
SUMMARY:Wastin’ Away Again In Margaritaville
DESCRIPTION:“Wastin’ Away Again In Margaritaville at Mississippi River Distilling Company” \n  \nJoin us for the ultimate Jimmy Buffett Music Bingo event! We’re ‘Trying to Reason with *Blizzard* Season’. So we’re bringing summer vibes to this cold winter weather! Whether you’re a Parrothead or just love a good time – this night is all about Hawaiian shirts\, drinks\, and classic Buffett tunes.  \n  \nHow it works  \nBingo to the Beat: We’ll be playing all your favorite Jimmy Buffett songs – from Cheeseburgers in Paradise to Come Monday. Fill out your bingo card with the music!  \nIt’s 5 o’clock Somewhere: It’s 5 o’clock here all night! Happy hour options available for bingo night.  \nIsland Themed Prizes: With some Love and Luck you can win island inspired prizes to celebrate your victories!  \n  \nDate: March 4\, 6-8pm  \nLocation: Mississippi River Distilling Company Cocktail House  \n303 N Cody Road\, LeClaire\, IA 
URL:https://www.mrdistilling.com/event/wastin-away-again-in-margaritaville/
LOCATION:Cocktail House & Distillery\, 303 North Cody Road\, LeClaire\, IA\, 52753\, United States
ATTACH;FMTTYPE=image/webp:https://www.mrdistilling.com/wp-content/uploads/2025/02/JimmyBuffettBingoFlye_5x7-01.webp
ORGANIZER;CN="Mississippi River Distilling Company":MAILTO:events@mrdistilling.com
END:VEVENT
END:VCALENDAR