BEGIN:VCALENDAR
VERSION:2.0
PRODID:-//Mississippi River Distilling Company - ECPv6.15.20//NONSGML v1.0//EN
CALSCALE:GREGORIAN
METHOD:PUBLISH
X-WR-CALNAME:Mississippi River Distilling Company
X-ORIGINAL-URL:https://www.mrdistilling.com
X-WR-CALDESC:Events for Mississippi River Distilling Company
REFRESH-INTERVAL;VALUE=DURATION:PT1H
X-Robots-Tag:noindex
X-PUBLISHED-TTL:PT1H
BEGIN:VTIMEZONE
TZID:America/Chicago
BEGIN:DAYLIGHT
TZOFFSETFROM:-0600
TZOFFSETTO:-0500
TZNAME:CDT
DTSTART:20230312T080000
END:DAYLIGHT
BEGIN:STANDARD
TZOFFSETFROM:-0500
TZOFFSETTO:-0600
TZNAME:CST
DTSTART:20231105T070000
END:STANDARD
BEGIN:DAYLIGHT
TZOFFSETFROM:-0600
TZOFFSETTO:-0500
TZNAME:CDT
DTSTART:20240310T080000
END:DAYLIGHT
BEGIN:STANDARD
TZOFFSETFROM:-0500
TZOFFSETTO:-0600
TZNAME:CST
DTSTART:20241103T070000
END:STANDARD
BEGIN:DAYLIGHT
TZOFFSETFROM:-0600
TZOFFSETTO:-0500
TZNAME:CDT
DTSTART:20250309T080000
END:DAYLIGHT
BEGIN:STANDARD
TZOFFSETFROM:-0500
TZOFFSETTO:-0600
TZNAME:CST
DTSTART:20251102T070000
END:STANDARD
END:VTIMEZONE
BEGIN:VEVENT
DTSTART;VALUE=DATE:20241206
DTEND;VALUE=DATE:20241209
DTSTAMP:20260425T072511
CREATED:20240918T172412Z
LAST-MODIFIED:20240918T172412Z
UID:10001598-1733443200-1733702399@www.mrdistilling.com
SUMMARY:Christmas In  LeClaire
DESCRIPTION:Christmas fun in Leclaire all weekend long!  Check out www.visitleclaire.com for details on all the holiday cheer.
URL:https://www.mrdistilling.com/event/christmas-in-leclaire/
LOCATION:Cocktail House & Distillery\, 303 North Cody Road\, LeClaire\, IA\, 52753\, United States
ATTACH;FMTTYPE=image/jpeg:https://www.mrdistilling.com/wp-content/uploads/2021/09/christmas.jpg
END:VEVENT
BEGIN:VEVENT
DTSTART;TZID=America/Chicago:20241207T180000
DTEND;TZID=America/Chicago:20241207T200000
DTSTAMP:20260425T072511
CREATED:20241115T162513Z
LAST-MODIFIED:20241115T162513Z
UID:10001645-1733594400-1733601600@www.mrdistilling.com
SUMMARY:Giving Spirits with Illowa Council
DESCRIPTION:If you enjoy bourbon\, this event is for you! \nThe Utica Ridge HyVee is procuring limited edition and select barrel bourbons. Each attendee will have the opportunity to taste and learn about these special brands at Mississippi River Distillery’s Downtown Davenport location. \nThis highly exclusive event is limited to the first 100 people… Tickets will sell out fast\, so don’t miss your opportunity to experience these fine spirits! \nTicket Cost: $75 per person \n\nIncludes: Bourbon Tasting\, Hors D’oeuvres\, a mixology class\, and an old fashioned cocktail\n\nDate: December 7\, 2024 \nLocation: Mississippi River Distillery\, 318 E 2nd St\, Davenport\, IA \nTime: 6:00pm – 8:00pm \nClick here for more info and tickets.
URL:https://www.mrdistilling.com/event/giving-spirits-with-illowa-council/
LOCATION:Downtown Lounge\, 318 East 2nd Street\, Davenport\, IA\, 52801\, United States
END:VEVENT
END:VCALENDAR