BEGIN:VCALENDAR
VERSION:2.0
PRODID:-//Mississippi River Distilling Company - ECPv6.15.20//NONSGML v1.0//EN
CALSCALE:GREGORIAN
METHOD:PUBLISH
X-ORIGINAL-URL:https://www.mrdistilling.com
X-WR-CALDESC:Events for Mississippi River Distilling Company
REFRESH-INTERVAL;VALUE=DURATION:PT1H
X-Robots-Tag:noindex
X-PUBLISHED-TTL:PT1H
BEGIN:VTIMEZONE
TZID:America/Chicago
BEGIN:DAYLIGHT
TZOFFSETFROM:-0600
TZOFFSETTO:-0500
TZNAME:CDT
DTSTART:20230312T080000
END:DAYLIGHT
BEGIN:STANDARD
TZOFFSETFROM:-0500
TZOFFSETTO:-0600
TZNAME:CST
DTSTART:20231105T070000
END:STANDARD
BEGIN:DAYLIGHT
TZOFFSETFROM:-0600
TZOFFSETTO:-0500
TZNAME:CDT
DTSTART:20240310T080000
END:DAYLIGHT
BEGIN:STANDARD
TZOFFSETFROM:-0500
TZOFFSETTO:-0600
TZNAME:CST
DTSTART:20241103T070000
END:STANDARD
BEGIN:DAYLIGHT
TZOFFSETFROM:-0600
TZOFFSETTO:-0500
TZNAME:CDT
DTSTART:20250309T080000
END:DAYLIGHT
BEGIN:STANDARD
TZOFFSETFROM:-0500
TZOFFSETTO:-0600
TZNAME:CST
DTSTART:20251102T070000
END:STANDARD
END:VTIMEZONE
BEGIN:VEVENT
DTSTART;TZID=America/Chicago:20241129T150000
DTEND;TZID=America/Chicago:20241129T220000
DTSTAMP:20260423T030832
CREATED:20241031T190119Z
LAST-MODIFIED:20241115T121547Z
UID:10001641-1732892400-1732917600@www.mrdistilling.com
SUMMARY:Cody Road X Double Barrel Release
DESCRIPTION:Join us Black Friday at both locations for the exclusive release of Cody Road X Double Barrel Whiskey – a one-of-a-kind bourbon that’s been finished in stout beer barrels from Five Cities Brewing. This limited edition blend captures the essence of both bourbon and stout\, creating a bold\, complex flavor you won’t want to miss.\nBarrel Raffle: For each bottle of Cody Road X you purchase\, you’ll receive a raffle ticket for a chance to win the actual barrel this whiskey was aged in! Whiskey Club members get double the chances\, with 2 raffle tickets per bottle purchased.
URL:https://www.mrdistilling.com/event/cody-road-x-double-barrel-release/
LOCATION:Cocktail House & Distillery\, 303 North Cody Road\, LeClaire\, IA\, 52753\, United States
ATTACH;FMTTYPE=image/png:https://www.mrdistilling.com/wp-content/uploads/2024/10/Cody-Road-X.png
END:VEVENT
END:VCALENDAR