BEGIN:VCALENDAR
VERSION:2.0
PRODID:-//Mississippi River Distilling Company - ECPv6.15.20//NONSGML v1.0//EN
CALSCALE:GREGORIAN
METHOD:PUBLISH
X-ORIGINAL-URL:https://www.mrdistilling.com
X-WR-CALDESC:Events for Mississippi River Distilling Company
REFRESH-INTERVAL;VALUE=DURATION:PT1H
X-Robots-Tag:noindex
X-PUBLISHED-TTL:PT1H
BEGIN:VTIMEZONE
TZID:America/Chicago
BEGIN:DAYLIGHT
TZOFFSETFROM:-0600
TZOFFSETTO:-0500
TZNAME:CDT
DTSTART:20230312T080000
END:DAYLIGHT
BEGIN:STANDARD
TZOFFSETFROM:-0500
TZOFFSETTO:-0600
TZNAME:CST
DTSTART:20231105T070000
END:STANDARD
BEGIN:DAYLIGHT
TZOFFSETFROM:-0600
TZOFFSETTO:-0500
TZNAME:CDT
DTSTART:20240310T080000
END:DAYLIGHT
BEGIN:STANDARD
TZOFFSETFROM:-0500
TZOFFSETTO:-0600
TZNAME:CST
DTSTART:20241103T070000
END:STANDARD
BEGIN:DAYLIGHT
TZOFFSETFROM:-0600
TZOFFSETTO:-0500
TZNAME:CDT
DTSTART:20250309T080000
END:DAYLIGHT
BEGIN:STANDARD
TZOFFSETFROM:-0500
TZOFFSETTO:-0600
TZNAME:CST
DTSTART:20251102T070000
END:STANDARD
END:VTIMEZONE
BEGIN:VEVENT
DTSTART;VALUE=DATE:20240815
DTEND;VALUE=DATE:20240819
DTSTAMP:20260423T092009
CREATED:20240422T204009Z
LAST-MODIFIED:20240422T204009Z
UID:10000917-1723680000-1724025599@www.mrdistilling.com
SUMMARY:Alternating Currents in Downtown Davenport
DESCRIPTION:Visit alternatingcurrentsqc.com for complete listing of events and lineups and the stop in at the Downtown Lounge for a cocktail in between!
URL:https://www.mrdistilling.com/event/alternating-currents-in-downtown-davenport-2/
LOCATION:Downtown Lounge\, 318 East 2nd Street\, Davenport\, IA\, 52801\, United States
ATTACH;FMTTYPE=image/jpeg:https://www.mrdistilling.com/wp-content/uploads/2022/07/AC.jpg
END:VEVENT
BEGIN:VEVENT
DTSTART;TZID=America/Chicago:20240816T170000
DTEND;TZID=America/Chicago:20240816T200000
DTSTAMP:20260423T092009
CREATED:20240422T202932Z
LAST-MODIFIED:20240702T134655Z
UID:10000909-1723827600-1723838400@www.mrdistilling.com
SUMMARY:Food Truck Friday
DESCRIPTION:Food trucks in front of Mississippi River Distilling Company and Green Tree Brewery as well as behind 129 on Friday nights from May to Labor Day.  No trucks on  8/9 (TugFest). \nFood trucks planned for Green Tree & MRDC (subject to change): \n \nCheck the Food Truck Friday Facebook page for the latest updates
URL:https://www.mrdistilling.com/event/food-truck-friday/2024-08-16/
LOCATION:Cocktail House & Distillery\, 303 North Cody Road\, LeClaire\, IA\, 52753\, United States
END:VEVENT
BEGIN:VEVENT
DTSTART;TZID=America/Chicago:20240816T173000
DTEND;TZID=America/Chicago:20240816T183000
DTSTAMP:20260423T092009
CREATED:20240812T151039Z
LAST-MODIFIED:20240812T151039Z
UID:10001007-1723829400-1723833000@www.mrdistilling.com
SUMMARY:Alternating Currents:  Running Man
DESCRIPTION:We’re excited to be part of the Alternating Currents festival\, bringing the live music to Downtown Davenport! Join us at the Mississippi River Distilling Company Downtown Lounge back loading dock for an unforgettable experience. Enjoy your favorite Cody Road spirits while rocking out to some amazing bands.\n\nFriday at 6:30\, it’s Running Man\nDownload the Alternating Currents app to take in all the fun! https://www.alternatingcurrentsqc.com/
URL:https://www.mrdistilling.com/event/alternating-currents-running-man/
LOCATION:Downtown Lounge\, 318 East 2nd Street\, Davenport\, IA\, 52801\, United States
ATTACH;FMTTYPE=image/jpeg:https://www.mrdistilling.com/wp-content/uploads/2024/08/AC_DTL.jpg
END:VEVENT
BEGIN:VEVENT
DTSTART;TZID=America/Chicago:20240816T180000
DTEND;TZID=America/Chicago:20240816T220000
DTSTAMP:20260423T092009
CREATED:20240701T142848Z
LAST-MODIFIED:20240701T145805Z
UID:10001002-1723831200-1723845600@www.mrdistilling.com
SUMMARY:Cyclone Fanatic Football Kickoff Road Show
DESCRIPTION:Eastern Iowa packed the place last year and now CF is heading east again! Join us in LeClaire\, Iowa for this amazing night at the beautiful Mississippi River Distilling Company Celebration Center right on the banks of the Big River. \nMeet staff from CF\, enjoy the 2024 special release of Cyclone Fanatic Cody Road Bourbon\, amazing cocktails from MRDC\, meet athletes and get autographs\, have dinner with the food truck on site and tons of fun and prizes. Tickets are only $20. Half of that entry fee goes to our student athletes through the ‘We Will’ Collective. \nBUY YOUR TICKET NOW
URL:https://www.mrdistilling.com/event/cyclone-fanatic-football-kickoff-road-show/
LOCATION:Cocktail House & Distillery\, 303 North Cody Road\, LeClaire\, IA\, 52753\, United States
ATTACH;FMTTYPE=image/jpeg:https://www.mrdistilling.com/wp-content/uploads/2024/07/RoadShow-e1719844064332.jpg
END:VEVENT
BEGIN:VEVENT
DTSTART;TZID=America/Chicago:20240816T210000
DTEND;TZID=America/Chicago:20240816T210000
DTSTAMP:20260423T092009
CREATED:20240812T151141Z
LAST-MODIFIED:20240812T151141Z
UID:10001008-1723842000-1723842000@www.mrdistilling.com
SUMMARY:Alternating Currents:  Einstein's Sister
DESCRIPTION:We’re excited to be part of the Alternating Currents festival\, bringing the live music to Downtown Davenport! Join us at the Mississippi River Distilling Company Downtown Lounge back loading dock for an unforgettable experience. Enjoy your favorite Cody Road spirits while rocking out to some amazing bands.\n\nFriday at 9\, it’s Einstein’s Sister\nDownload the Alternating Currents app to take in all the fun! https://www.alternatingcurrentsqc.com/
URL:https://www.mrdistilling.com/event/alternating-currents-einsteins-sister/
LOCATION:Downtown Lounge\, 318 East 2nd Street\, Davenport\, IA\, 52801\, United States
ATTACH;FMTTYPE=image/jpeg:https://www.mrdistilling.com/wp-content/uploads/2024/08/AC_DTL.jpg
END:VEVENT
END:VCALENDAR